BEGIN:VCALENDAR
VERSION:2.0
PRODID:-//wp-events-plugin.com//7.2.3.1//EN
TZID:Europe/Berlin
X-WR-TIMEZONE:Europe/Berlin
BEGIN:VEVENT
UID:74@soundclowns.de
DTSTART;TZID=Europe/Berlin:20250329T130000
DTEND;TZID=Europe/Berlin:20250330T000000
DTSTAMP:20250320T091210Z
URL:https://www.soundclowns.de/events/apres-craft-night-scheppal-alm/
SUMMARY:Aprés Craft Night - Scheppal Alm
DESCRIPTION:SoundClowns\n\nBeatz&amp\;Nylon mit Jörg Kalscheuer • Tobi G
  • Andre Holzheimer • Michael Meier Drumming\n\nLive DJs von 13:00 bis
  00:00 Uhr\n\nGratis Shuttlebusse zwischen Maria Alm\, Dienten\, Mühlbac
 h und Arthurhaus bis 00:00 Uhr
ATTACH;FMTTYPE=image/jpeg:https://i0.wp.com/www.soundclowns.de/wp-content/
 uploads/2025/03/Scheppal-Alm-Craft-Beer.jpg?fit=1131%2C1600&ssl=1
CATEGORIES:DJ-Events
LOCATION:Scheppal Alm\, Mühlbach am Hochkönig 481\, Mühlbach am Hochkön
 ig\, Salzburger Land\, 5505\, Mühlbach\, Österreich
X-APPLE-STRUCTURED-LOCATION;VALUE=URI;X-ADDRESS=Mühlbach am Hochkönig 481
 \, Mühlbach am Hochkönig\, Salzburger Land\, 5505\, Mühlbach\, Österre
 ich;X-APPLE-RADIUS=100;X-TITLE=Scheppal Alm:geo:0,0
END:VEVENT
BEGIN:VTIMEZONE
TZID:Europe/Berlin
X-LIC-LOCATION:Europe/Berlin
BEGIN:STANDARD
DTSTART:20241027T020000
TZOFFSETFROM:+0200
TZOFFSETTO:+0100
TZNAME:CET
END:STANDARD
END:VTIMEZONE
END:VCALENDAR