BEGIN:VCALENDAR
VERSION:2.0
PRODID:-//wp-events-plugin.com//7.2.3.1//EN
TZID:Europe/Berlin
X-WR-TIMEZONE:Europe/Berlin
BEGIN:VEVENT
UID:21@soundclowns.de
DTSTART;TZID=Europe/Berlin:20220408T180000
DTEND;TZID=Europe/Berlin:20220408T220000
DTSTAMP:20220301T105230Z
URL:https://www.soundclowns.de/events/fruehlingsgefuehle/
SUMMARY:Frühlingsgefühle
DESCRIPTION:Frühlingsgefühle Part 1.\n\nDer Frühling blickt hervor und d
 ie passenden Beats zum Sundownergefühl liefern wir.\n\nhttps://www.franke
 nstein-restaurant.de\n\n&nbsp\;\n\n&nbsp\;
ATTACH;FMTTYPE=image/jpeg:https://i0.wp.com/www.soundclowns.de/wp-content/
 uploads/2022/02/20200512_205511-scaled.jpg?fit=2560%2C1440&ssl=1
CATEGORIES:DJ-Events,LiveStream
LOCATION:Sunny Moments - Burg Frankenstein\, Burg Frankenstein\, Mühltal\,
  Hessen\, 64367\, Deutschland
X-APPLE-STRUCTURED-LOCATION;VALUE=URI;X-ADDRESS=Burg Frankenstein\, Mühlta
 l\, Hessen\, 64367\, Deutschland;X-APPLE-RADIUS=100;X-TITLE=Sunny Moments 
 - Burg Frankenstein:geo:0,0
END:VEVENT
BEGIN:VTIMEZONE
TZID:Europe/Berlin
X-LIC-LOCATION:Europe/Berlin
BEGIN:DAYLIGHT
DTSTART:20220327T030000
TZOFFSETFROM:+0100
TZOFFSETTO:+0200
TZNAME:CEST
END:DAYLIGHT
END:VTIMEZONE
END:VCALENDAR