BEGIN:VCALENDAR
VERSION:2.0
PRODID:-//wp-events-plugin.com//7.2.3.1//EN
TZID:Europe/Berlin
X-WR-TIMEZONE:Europe/Berlin
BEGIN:VEVENT
UID:45@soundclowns.de
DTSTART;TZID=Europe/Berlin:20230702T190000
DTEND;TZID=Europe/Berlin:20230703T000000
DTSTAMP:20230408T100018Z
URL:https://www.soundclowns.de/events/heinerfest-im-carree/
SUMMARY:Heinerfest im Carree
DESCRIPTION:Centralstation Party Sonntag - Eintritt frei\n\nCentralstation 
 - Heinerfest\n\nCarree\nVor der Centralstation\n64283 Darmstadt
ATTACH;FMTTYPE=image/jpeg:https://i0.wp.com/www.soundclowns.de/wp-content/
 uploads/2022/04/IMG_4860.jpg?fit=1440%2C1440&ssl=1
CATEGORIES:DJ-Events
LOCATION:Im Carree\, Im Carree 3\, Darmstadt\, Hessen\, 64283\, Deutschland
X-APPLE-STRUCTURED-LOCATION;VALUE=URI;X-ADDRESS=Im Carree 3\, Darmstadt\, H
 essen\, 64283\, Deutschland;X-APPLE-RADIUS=100;X-TITLE=Im Carree:geo:0,0
END:VEVENT
BEGIN:VTIMEZONE
TZID:Europe/Berlin
X-LIC-LOCATION:Europe/Berlin
BEGIN:DAYLIGHT
DTSTART:20230326T030000
TZOFFSETFROM:+0100
TZOFFSETTO:+0200
TZNAME:CEST
END:DAYLIGHT
END:VTIMEZONE
END:VCALENDAR