BEGIN:VCALENDAR
VERSION:2.0
PRODID:-//wp-events-plugin.com//7.2.3.1//EN
TZID:Europe/Berlin
X-WR-TIMEZONE:Europe/Berlin
BEGIN:VEVENT
UID:6@soundclowns.de
DTSTART;TZID=Europe/Berlin:20210529T180000
DTEND;TZID=Europe/Berlin:20210529T234500
DTSTAMP:20210528T090050Z
URL:https://www.soundclowns.de/events/livestream-schaufenstermusik-live-au
 s-der-mio-bar/
SUMMARY:Livestream Schaufenstermusik - Live aus der MIO Bar
DESCRIPTION:
ATTACH;FMTTYPE=image/jpeg:https://i0.wp.com/www.soundclowns.de/wp-content/
 uploads/2021/02/IMG_6224-scaled.jpg?fit=2560%2C1920&ssl=1
CATEGORIES:DJ-Events
END:VEVENT
BEGIN:VTIMEZONE
TZID:Europe/Berlin
X-LIC-LOCATION:Europe/Berlin
BEGIN:DAYLIGHT
DTSTART:20210328T030000
TZOFFSETFROM:+0100
TZOFFSETTO:+0200
TZNAME:CEST
END:DAYLIGHT
END:VTIMEZONE
END:VCALENDAR