BEGIN:VCALENDAR
VERSION:2.0
PRODID:-//wp-events-plugin.com//7.2.3.1//EN
TZID:Europe/Berlin
X-WR-TIMEZONE:Europe/Berlin
BEGIN:VEVENT
UID:14@soundclowns.de
DTSTART;TZID=Europe/Berlin:20220326T220000
DTEND;TZID=Europe/Berlin:20220327T040000
DTSTAMP:20220220T174507Z
URL:https://www.soundclowns.de/events/neue-partyreihe-in-nrw/
SUMMARY:Neue Partyreihe in NRW - Secret Party
DESCRIPTION:\n\nNext stop Oberhausen...\n\nPlayTime: 22h - 00h\n\nhttps://r
 elease-events.de\n\nhttps://release-events.de\n\n&nbsp\;
CATEGORIES:DJ-Events
LOCATION:Resonanzwerk Oberhausen\, Essener Str. 259\, Oberhausen\, Nordrhei
 n-Westfalen\, 46047\, NRW\, Deutschland
X-APPLE-STRUCTURED-LOCATION;VALUE=URI;X-ADDRESS=Essener Str. 259\, Oberhaus
 en\, Nordrhein-Westfalen\, 46047\, NRW\, Deutschland;X-APPLE-RADIUS=100;X-
 TITLE=Resonanzwerk Oberhausen:geo:0,0
END:VEVENT
BEGIN:VTIMEZONE
TZID:Europe/Berlin
X-LIC-LOCATION:Europe/Berlin
BEGIN:STANDARD
DTSTART:20211031T020000
TZOFFSETFROM:+0200
TZOFFSETTO:+0100
TZNAME:CET
END:STANDARD
BEGIN:DAYLIGHT
DTSTART:20220327T030000
TZOFFSETFROM:+0100
TZOFFSETTO:+0200
TZNAME:CEST
END:DAYLIGHT
END:VTIMEZONE
END:VCALENDAR