BEGIN:VCALENDAR
VERSION:2.0
PRODID:-//wp-events-plugin.com//7.2.3.1//EN
TZID:Europe/Berlin
X-WR-TIMEZONE:Europe/Berlin
BEGIN:VEVENT
UID:48@soundclowns.de
DTSTART;TZID=Europe/Berlin:20230517T180000
DTEND;TZID=Europe/Berlin:20230517T220000
DTSTAMP:20230429T085312Z
URL:https://www.soundclowns.de/events/silent-disco-naturfreundehaus-ober-r
 amstadt/
SUMMARY:Silent Disco - Naturfreundehaus Ober-Ramstadt
DESCRIPTION:\n 	3 DJs\n 	3 Kanäle\n 	3 unterschiedliche Musikrichtungen\n 
 	3x mehr Musik\n 	Party hoch3\n\nEgal ob GRÜN / ROT oder BLAU\, Mitsingen
  und Mitfeiern garantiert. Falls nicht\, einfach Kanal wechseln und Weiter
 feiern... \;-)
ATTACH;FMTTYPE=image/jpeg:https://i0.wp.com/www.soundclowns.de/wp-content/
 uploads/2023/04/SilentDisco_Sndcns.jpg?fit=445%2C220&ssl=1
CATEGORIES:DJ-Events
LOCATION:Naturfreundehaus Ober-Ramstadt\, Breitensteinweg 100\, Ober-Ramsta
 dt\, Hessen\, 64372\, Deutschland
X-APPLE-STRUCTURED-LOCATION;VALUE=URI;X-ADDRESS=Breitensteinweg 100\, Ober-
 Ramstadt\, Hessen\, 64372\, Deutschland;X-APPLE-RADIUS=100;X-TITLE=Naturfr
 eundehaus Ober-Ramstadt:geo:0,0
END:VEVENT
BEGIN:VTIMEZONE
TZID:Europe/Berlin
X-LIC-LOCATION:Europe/Berlin
BEGIN:DAYLIGHT
DTSTART:20230326T030000
TZOFFSETFROM:+0100
TZOFFSETTO:+0200
TZNAME:CEST
END:DAYLIGHT
END:VTIMEZONE
END:VCALENDAR