BEGIN:VCALENDAR
VERSION:2.0
PRODID:-//wp-events-plugin.com//7.2.3.1//EN
TZID:Europe/Berlin
X-WR-TIMEZONE:Europe/Berlin
BEGIN:VEVENT
UID:9@soundclowns.de
DTSTART;TZID=Europe/Berlin:20210915T180000
DTEND;TZID=Europe/Berlin:20210915T220000
DTSTAMP:20210803T130255Z
URL:https://www.soundclowns.de/events/sundowner-livestream/
SUMMARY:Sundowner - Livestream
DESCRIPTION:
ATTACH;FMTTYPE=image/jpeg:https://i0.wp.com/www.soundclowns.de/wp-content/
 uploads/2020/08/36088037_2071130522899010_8107713831716782080_o.jpg?fit=96
 0%2C960&ssl=1
CATEGORIES:DJ-Events,LiveStream
LOCATION:Sunny Moments - Burg Frankenstein\, Burg Frankenstein\, Mühltal\,
  Hessen\, 64367\, Deutschland
X-APPLE-STRUCTURED-LOCATION;VALUE=URI;X-ADDRESS=Burg Frankenstein\, Mühlta
 l\, Hessen\, 64367\, Deutschland;X-APPLE-RADIUS=100;X-TITLE=Sunny Moments 
 - Burg Frankenstein:geo:0,0
END:VEVENT
BEGIN:VTIMEZONE
TZID:Europe/Berlin
X-LIC-LOCATION:Europe/Berlin
BEGIN:DAYLIGHT
DTSTART:20210328T030000
TZOFFSETFROM:+0100
TZOFFSETTO:+0200
TZNAME:CEST
END:DAYLIGHT
END:VTIMEZONE
END:VCALENDAR