BEGIN:VCALENDAR
VERSION:2.0
PRODID:-//wp-events-plugin.com//7.2.3.1//EN
TZID:Europe/Berlin
X-WR-TIMEZONE:Europe/Berlin
BEGIN:VEVENT
UID:53@soundclowns.de
DTSTART;TZID=Europe/Berlin:20240509T110000
DTEND;TZID=Europe/Berlin:20240509T190000
DTSTAMP:20240416T070637Z
URL:https://www.soundclowns.de/events/vaddertag-familienfest-bei-sv-st-ste
 phan-griesheim/
SUMMARY:VADDERTAG / FAMILIENFEST bei SV St. Stephan Griesheim
DESCRIPTION:Nach 2022 und 2023 folgt nun die dritte Ausgabe des Vaddertags 
 bei SV St. Stephan 1846.\n\nBIER / BIER / BIER und ein bisschen was zu Ess
 en...
ATTACH;FMTTYPE=image/jpeg:https://www.soundclowns.de/wp-content/uploads/20
 23/08/Plakat-2024-pdf.jpg
CATEGORIES:DJ-Events
LOCATION:SV St. Stephan 1953 e.V. Griesheim\, Südring 3\, Griesheim\, Hess
 en\, 64347\, Deutschland
X-APPLE-STRUCTURED-LOCATION;VALUE=URI;X-ADDRESS=Südring 3\, Griesheim\, He
 ssen\, 64347\, Deutschland;X-APPLE-RADIUS=100;X-TITLE=SV St. Stephan 1953 
 e.V. Griesheim:geo:0,0
END:VEVENT
BEGIN:VTIMEZONE
TZID:Europe/Berlin
X-LIC-LOCATION:Europe/Berlin
BEGIN:DAYLIGHT
DTSTART:20240331T030000
TZOFFSETFROM:+0100
TZOFFSETTO:+0200
TZNAME:CEST
END:DAYLIGHT
END:VTIMEZONE
END:VCALENDAR